BEGIN:VCALENDAR
VERSION:2.0
PRODID:-//bellarinecameraclub.org.au - ECPv5.4.0//NONSGML v1.0//EN
CALSCALE:GREGORIAN
METHOD:PUBLISH
X-WR-CALNAME:bellarinecameraclub.org.au
X-ORIGINAL-URL:https://bellarinecameraclub.org.au
X-WR-CALDESC:Events for bellarinecameraclub.org.au
BEGIN:VTIMEZONE
TZID:Australia/Melbourne
BEGIN:STANDARD
TZOFFSETFROM:+1100
TZOFFSETTO:+1000
TZNAME:AEST
DTSTART:20190406T160000
END:STANDARD
BEGIN:DAYLIGHT
TZOFFSETFROM:+1000
TZOFFSETTO:+1100
TZNAME:AEDT
DTSTART:20191005T160000
END:DAYLIGHT
END:VTIMEZONE
BEGIN:VEVENT
DTSTART;TZID=Australia/Melbourne:20191007T193000
DTEND;TZID=Australia/Melbourne:20191007T220000
DTSTAMP:20210227T233456
CREATED:20190810T061152Z
LAST-MODIFIED:20190810T061152Z
UID:2543-1570476600-1570485600@bellarinecameraclub.org.au
SUMMARY:7th Oct Guest Speaker -Heather Prince "Preparing AVs"
DESCRIPTION:
URL:https://bellarinecameraclub.org.au/event/7th-oct-guest-speaker-heather-prince-preparing-avs
LOCATION:SpringDale Neighbourhood Centre\, 17-21 High St.\, Drysdale\, Victoria\, Australia
CATEGORIES:Guest Speaker
END:VEVENT
END:VCALENDAR