BEGIN:VCALENDAR
VERSION:2.0
PRODID:-//bellarinecameraclub.org.au - ECPv5.4.0//NONSGML v1.0//EN
CALSCALE:GREGORIAN
METHOD:PUBLISH
X-WR-CALNAME:bellarinecameraclub.org.au
X-ORIGINAL-URL:https://bellarinecameraclub.org.au
X-WR-CALDESC:Events for bellarinecameraclub.org.au
BEGIN:VTIMEZONE
TZID:Australia/Melbourne
BEGIN:STANDARD
TZOFFSETFROM:+1100
TZOFFSETTO:+1000
TZNAME:AEST
DTSTART:20190406T160000
END:STANDARD
BEGIN:DAYLIGHT
TZOFFSETFROM:+1000
TZOFFSETTO:+1100
TZNAME:AEDT
DTSTART:20191005T160000
END:DAYLIGHT
END:VTIMEZONE
BEGIN:VEVENT
DTSTART;VALUE=DATE:20191011
DTEND;VALUE=DATE:20191012
DTSTAMP:20210227T233956
CREATED:20190810T060702Z
LAST-MODIFIED:20190810T060906Z
UID:2539-1570752000-1570838399@bellarinecameraclub.org.au
SUMMARY:11th Oct Setup for Annual Exhibition
DESCRIPTION:
URL:https://bellarinecameraclub.org.au/event/11th-oct-setup-for-annual-exhibition
LOCATION:SpringDale Neighbourhood Centre\, 17-21 High St.\, Drysdale\, Victoria\, Australia
END:VEVENT
END:VCALENDAR